BEGIN:VCALENDAR
VERSION:2.0
PRODID:-//Crafties Hobbycraft Limited - ECPv6.15.17.1//NONSGML v1.0//EN
CALSCALE:GREGORIAN
METHOD:PUBLISH
X-WR-CALNAME:Crafties Hobbycraft Limited
X-ORIGINAL-URL:https://craftieshobbycraft.com
X-WR-CALDESC:Events for Crafties Hobbycraft Limited
REFRESH-INTERVAL;VALUE=DURATION:PT1H
X-Robots-Tag:noindex
X-PUBLISHED-TTL:PT1H
BEGIN:VTIMEZONE
TZID:Africa/Lagos
BEGIN:STANDARD
TZOFFSETFROM:+0100
TZOFFSETTO:+0100
TZNAME:WAT
DTSTART:20250101T000000
END:STANDARD
END:VTIMEZONE
BEGIN:VEVENT
DTSTART;TZID=Africa/Lagos:20260324T100000
DTEND;TZID=Africa/Lagos:20260422T143000
DTSTAMP:20260426T044344
CREATED:20260313T140113Z
LAST-MODIFIED:20260313T144421Z
UID:18121-1774346400-1776868200@craftieshobbycraft.com
SUMMARY:Learn Professional Beaded Jewelry: The Crafties Way™ (March–April Classes)
DESCRIPTION:The Professional Masterclass Series \nTop Tier | 2-Day Intensive Immersion \nFor beginners and improving beaders who want neat finishing\, proper structure\, and true professional confidence. \nA Legacy of Excellence\n\nCrafties pioneered structured beaded jewelry training over 23 years ago.\nThis Professional Masterclass continues that tradition\, equipping serious learners with the techniques\, discipline\, and finishing standards that define truly professional jewelry.\nThis is not hobby beading.\nThis is professional construction.\n\nTraining Dates\nOption 1: March 24 & 25 \nOption 2: April 21 & 22 \n(Limited seats per batch) \nINVESTMENT: ₦220\,000\nIncludes:\n\nAll premium course materials\nUse of professional tools during training\nPrinted Crafties Professional Finishing Manual\nCrafties Quality Control Checklist\nCertificate of Completion\n30-Day Post-Class Support WhatsApp Access\nLight refreshments\n\nWhat You Will Master\nDay 1 – Foundations of Professional Finishing \n\nUnderstanding professional tools & their correct use\nUsing Crimp covers & other Findings\nProper clasp attachment & structural balance\nEven tension control\nPerfect single-strand construction\nIdentifying and correcting amateur mistakes\nMemory Wire bracelets\nUsing the Beading Board\n\nDay 2 – Precision Wire & Structured Design \n\nNeatly wrapped loops\nCreating balanced earrings\nMulti-strand techniques without tangling\nProfessional spacing and proportion\nFinishing techniques that last\nThe Crafties Professional Quality Test\n\nWho This Masterclass Is For\n\nAbsolute beginners who want to start correctly\nBead Jewelry Designers who feel their work “doesn’t look professional yet”\nCreatives preparing to sell\nCraftpreneurs who want to elevate their finishing standard\nIndividuals who value structured learning and excellence\n\nWhat Makes This Class Different?\n\nOver 23 years ago\, Crafties introduced structured beading education when it was not yet common.\nWe do not teach guesswork.\nWe teach precision.\nWe teach discipline.\nWe teach finishing.\n\nEvery participant receives:\n\nIndividual correction\nTechnique refinement\nProfessional evaluation\nSeats are intentionally limited to ensure personal guidance.\n\nWhy This Is a Top-Tier Professional Class\n\nThis is an immersive\, small-group Masterclass designed for serious learners.\nYou will not only create pieces\,\nYou will understand the construction\, structure\, and finishing standards that permanently elevate your work.\nLimited Seats Available\n\nRegistration is confirmed upon payment of a commitment deposit.\nVenue: Crafties Unit 1\, Adebola Mall\,53 Isaac John Street\, GRA\, Ikeja \nTime: 10:00 a.m. – 2.30:00 PM (Both Days) \nRegistration Contact:\nPhone Number: 08171367105 \nWhatsApp: 08171367105 \nExcellence in Every Strand. \nThe Crafties Standard. The Crafties way.
URL:https://craftieshobbycraft.com/event/learn-professional-beaded-jewelry-the-crafties-way-march-april-classes/
ATTACH;FMTTYPE=image/jpeg:https://craftieshobbycraft.com/wp-content/uploads/2026/03/Learn-Professional-Beaded-Jewelry.jpg
END:VEVENT
END:VCALENDAR